BEGIN:VCALENDAR
VERSION:2.0
METHOD:PUBLISH
PRODID:-//Missouri State University/Calendar of Events//EN
CALSCALE:GREGORIAN
X-WR-TIMEZONE:America/Chicago
BEGIN:VTIMEZONE
TZID:America/Chicago
BEGIN:DAYLIGHT
TZOFFSETFROM:-0600
TZOFFSETTO:-0500
DTSTART:20070311T020000
RRULE:FREQ=YEARLY;BYMONTH=3;BYDAY=2SU
TZNAME:CDT
END:DAYLIGHT
BEGIN:STANDARD
TZOFFSETFROM:-0500
TZOFFSETTO:-0600
DTSTART:20071104T020000
RRULE:FREQ=YEARLY;BYMONTH=11;BYDAY=1SU
TZNAME:CST
END:STANDARD
END:VTIMEZONE
BEGIN:VEVENT
UID:a070942d-19dc-4e42-a6ee-0df36b65f0c8.234924@calendar.missouristate.edu
CREATED:20240730T051506Z
LAST-MODIFIED:20240730T051506Z
LOCATION:Chicago\, Ill.
SUMMARY:Missouri State University Women's Tennis at MVC Individual Champio
 nship
DESCRIPTION:Missouri State University Women's Tennis visits MVC Individual
  Championship
X-ALT-DESC;FMTTYPE=text/html:&lt;html&gt;&lt;head&gt;&lt;title&gt;&lt;/title&gt;&lt;/head&gt;&lt;body&gt;Misso
 uri State University Women's Tennis visits MVC Individual Championship&lt;/b
 ody&gt;&lt;/html&gt;
DTSTART;VALUE=DATE:20241004
DTEND;VALUE=DATE:20241005
SEQUENCE:1
URL:http://missouristatebears.com/index.aspx?path=wten
CATEGORIES:Current Students,Future Students,Parents and Family,Alumni,
 Faculty,Staff,Community,Visitors,Athletics
END:VEVENT
END:VCALENDAR