BEGIN:VCALENDAR
VERSION:2.0
METHOD:PUBLISH
PRODID:-//Missouri State University/Calendar of Events//EN
CALSCALE:GREGORIAN
X-WR-TIMEZONE:America/Chicago
BEGIN:VTIMEZONE
TZID:America/Chicago
BEGIN:DAYLIGHT
TZOFFSETFROM:-0600
TZOFFSETTO:-0500
DTSTART:20070311T020000
RRULE:FREQ=YEARLY;BYMONTH=3;BYDAY=2SU
TZNAME:CDT
END:DAYLIGHT
BEGIN:STANDARD
TZOFFSETFROM:-0500
TZOFFSETTO:-0600
DTSTART:20071104T020000
RRULE:FREQ=YEARLY;BYMONTH=11;BYDAY=1SU
TZNAME:CST
END:STANDARD
END:VTIMEZONE
BEGIN:VEVENT
UID:00000000-0000-0000-0000-000000000000.234927@calendar.missouristate.edu
CREATED:20240802T184502Z
LAST-MODIFIED:20240802T184502Z
LOCATION:To Be Determined
SUMMARY:Black Alumni Network Happy Hour Series: Springfield
DESCRIPTION:The Black Alumni Network invites Missouri State University Bla
 ck alumni in the Springfield area to a local happy hour to find out more 
 about the Black Alumni Network and to share their input on the upcoming B
 lack Alumni Reunion in 2025!
X-ALT-DESC;FMTTYPE=text/html:&lt;html&gt;&lt;head&gt;&lt;title&gt;&lt;/title&gt;&lt;/head&gt;&lt;body&gt;&lt;span
 &gt;The Black Alumni Network invites Missouri State University Black alumni 
 in the Springfield area to a local happy hour to find out more about the 
 Black Alumni Network and to share their input on the upcoming Black Alumn
 i Reunion in 2025!&lt;/span&gt;&lt;/body&gt;&lt;/html&gt;
DTSTART;TZID=America/Chicago:20240912T170000
DTEND;TZID=America/Chicago:20240912T190000
SEQUENCE:0
URL:https://missouristate.imodules.com?sid=1691&amp;gid=2&amp;pgid=3850&amp;cid=6712&amp;e
 cid=6712&amp;ciid=23687&amp;crid=0
CATEGORIES:Public,Alumni,Parents and Family,Visitors
END:VEVENT
END:VCALENDAR