BEGIN:VCALENDAR
VERSION:2.0
METHOD:PUBLISH
PRODID:-//Missouri State University/Calendar of Events//EN
CALSCALE:GREGORIAN
X-WR-TIMEZONE:America/Chicago
BEGIN:VTIMEZONE
TZID:America/Chicago
BEGIN:DAYLIGHT
TZOFFSETFROM:-0600
TZOFFSETTO:-0500
DTSTART:20070311T020000
RRULE:FREQ=YEARLY;BYMONTH=3;BYDAY=2SU
TZNAME:CDT
END:DAYLIGHT
BEGIN:STANDARD
TZOFFSETFROM:-0500
TZOFFSETTO:-0600
DTSTART:20071104T020000
RRULE:FREQ=YEARLY;BYMONTH=11;BYDAY=1SU
TZNAME:CST
END:STANDARD
END:VTIMEZONE
BEGIN:VEVENT
UID:00000000-0000-0000-0000-000000000000.234929@calendar.missouristate.edu
CREATED:20240807T224503Z
LAST-MODIFIED:20240807T224503Z
LOCATION:To Be Determined
SUMMARY:Planned Giving Seminar
DESCRIPTION:Join the Missouri State University Foundation for a planned gi
 ving seminar presented by Rhonda D. Christopher\, CPA\, PFS\, CGFM®\, Man
 aging Director of Forvis Mazars Private Client™. Rhonda will share how we
  can fulfill a charitable intent to make a difference and provide informa
 tion on gifting strategies which could provide potential positive implica
 tions on your taxes. 
X-ALT-DESC;FMTTYPE=text/html:&lt;html&gt;&lt;head&gt;&lt;title&gt;&lt;/title&gt;&lt;/head&gt;&lt;body&gt;&lt;p&gt;Jo
 in the Missouri State University Foundation for a planned giving seminar 
 presented by Rhonda D. Christopher\, CPA\, PFS\, CGFM&amp;reg\;\, Managing Di
 rector of Forvis Mazars Private Client&amp;trade\;.&amp;nbsp\;Rhonda will share h
 ow we can fulfill a charitable intent to make a difference and provide in
 formation on gifting strategies which could provide potential positive im
 plications on your taxes.&amp;nbsp\;\n&lt;/p&gt;&lt;/body&gt;&lt;/html&gt;
DTSTART;TZID=America/Chicago:20241002T113000
DTEND;TZID=America/Chicago:20241002T130000
SEQUENCE:0
URL:https://missouristate.imodules.com?sid=1691&amp;gid=2&amp;pgid=3866&amp;cid=6741&amp;e
 cid=6741&amp;ciid=23770&amp;crid=0
CATEGORIES:Public,Alumni,Parents and Family,Visitors
END:VEVENT
END:VCALENDAR