BEGIN:VCALENDAR
VERSION:2.0
METHOD:PUBLISH
PRODID:-//Missouri State University/Calendar of Events//EN
CALSCALE:GREGORIAN
X-WR-TIMEZONE:America/Chicago
BEGIN:VTIMEZONE
TZID:America/Chicago
BEGIN:DAYLIGHT
TZOFFSETFROM:-0600
TZOFFSETTO:-0500
DTSTART:20070311T020000
RRULE:FREQ=YEARLY;BYMONTH=3;BYDAY=2SU
TZNAME:CDT
END:DAYLIGHT
BEGIN:STANDARD
TZOFFSETFROM:-0500
TZOFFSETTO:-0600
DTSTART:20071104T020000
RRULE:FREQ=YEARLY;BYMONTH=11;BYDAY=1SU
TZNAME:CST
END:STANDARD
END:VTIMEZONE
BEGIN:VEVENT
UID:8c221656-68f8-4c8b-b36d-ba3e4ffd71ab.234944@calendar.missouristate.edu
CREATED:20240809T051507Z
LAST-MODIFIED:20240809T051507Z
LOCATION:Edisto Island\, SC
SUMMARY:Missouri State University Women's Golf at Edisto Island Invitation
 al
DESCRIPTION:Missouri State University Women's Golf visits Edisto Island In
 vitational
X-ALT-DESC;FMTTYPE=text/html:&lt;html&gt;&lt;head&gt;&lt;title&gt;&lt;/title&gt;&lt;/head&gt;&lt;body&gt;Misso
 uri State University Women's Golf visits Edisto Island Invitational&lt;/body
 &gt;&lt;/html&gt;
DTSTART;VALUE=DATE:20241014
DTEND;VALUE=DATE:20241015
SEQUENCE:0
URL:http://missouristatebears.com/index.aspx?path=wgolf
CATEGORIES:Current Students,Future Students,Parents and Family,Alumni,
 Faculty,Staff,Community,Visitors,Athletics
END:VEVENT
END:VCALENDAR