BEGIN:VCALENDAR
VERSION:2.0
METHOD:PUBLISH
PRODID:-//Missouri State University/Calendar of Events//EN
CALSCALE:GREGORIAN
X-WR-TIMEZONE:America/Chicago
BEGIN:VTIMEZONE
TZID:America/Chicago
BEGIN:DAYLIGHT
TZOFFSETFROM:-0600
TZOFFSETTO:-0500
DTSTART:20070311T020000
RRULE:FREQ=YEARLY;BYMONTH=3;BYDAY=2SU
TZNAME:CDT
END:DAYLIGHT
BEGIN:STANDARD
TZOFFSETFROM:-0500
TZOFFSETTO:-0600
DTSTART:20071104T020000
RRULE:FREQ=YEARLY;BYMONTH=11;BYDAY=1SU
TZNAME:CST
END:STANDARD
END:VTIMEZONE
BEGIN:VEVENT
UID:00000000-0000-0000-0000-000000000000.234952@calendar.missouristate.edu
CREATED:20240809T184502Z
LAST-MODIFIED:20240809T184502Z
LOCATION:To Be Determined
SUMMARY:KC Alumni Chapter Third Thursday Happy Hour (September)
DESCRIPTION:Missouri State alumni and friends are invited to the Kansas Ci
 ty Alumni Chapter Third Thursday Happy Hour at Servaes Brewing Co. Connec
 t with fellow K.C. metro alumni and get to know your Alumni Chapter leade
 rs.
X-ALT-DESC;FMTTYPE=text/html:&lt;html&gt;&lt;head&gt;&lt;title&gt;&lt;/title&gt;&lt;/head&gt;&lt;body&gt;&lt;p&gt;Mi
 ssouri State alumni and friends are invited to the Kansas City Alumni Cha
 pter Third Thursday Happy Hour at Servaes Brewing Co. Connect with fellow
  K.C. metro alumni and get to know your Alumni Chapter leaders.&lt;/p&gt;&lt;/body
 &gt;&lt;/html&gt;
DTSTART;TZID=America/Chicago:20240919T180000
DTEND;TZID=America/Chicago:20240919T200000
SEQUENCE:0
URL:https://missouristate.imodules.com?sid=1691&amp;gid=2&amp;pgid=3869&amp;cid=6745&amp;e
 cid=6745&amp;ciid=23571&amp;crid=0
CATEGORIES:Public,Alumni,Parents and Family,Visitors
END:VEVENT
END:VCALENDAR