BEGIN:VCALENDAR
VERSION:2.0
METHOD:PUBLISH
PRODID:-//Missouri State University/Calendar of Events//EN
CALSCALE:GREGORIAN
X-WR-TIMEZONE:America/Chicago
BEGIN:VTIMEZONE
TZID:America/Chicago
BEGIN:DAYLIGHT
TZOFFSETFROM:-0600
TZOFFSETTO:-0500
DTSTART:20070311T020000
RRULE:FREQ=YEARLY;BYMONTH=3;BYDAY=2SU
TZNAME:CDT
END:DAYLIGHT
BEGIN:STANDARD
TZOFFSETFROM:-0500
TZOFFSETTO:-0600
DTSTART:20071104T020000
RRULE:FREQ=YEARLY;BYMONTH=11;BYDAY=1SU
TZNAME:CST
END:STANDARD
END:VTIMEZONE
BEGIN:VEVENT
UID:00000000-0000-0000-0000-000000000000.234970@calendar.missouristate.edu
CREATED:20240904T214505Z
LAST-MODIFIED:20240904T214505Z
LOCATION:To Be Determined
SUMMARY:BeAR CRAWL
DESCRIPTION:Reunite with young alumni after the football game for the seco
 nd annual BeAR CRAWL. Foster lasting connections and memories at this Hom
 ecoming tradition you won’t want to miss!
X-ALT-DESC;FMTTYPE=text/html:&lt;html&gt;&lt;head&gt;&lt;title&gt;&lt;/title&gt;&lt;/head&gt;&lt;body&gt;&lt;p&gt;Re
 unite with young alumni after the football game for the second annual BeA
 R CRAWL. Foster lasting connections and memories at this Homecoming tradi
 tion you won&amp;rsquo\;t want to miss!&lt;/p&gt;&lt;/body&gt;&lt;/html&gt;
DTSTART;TZID=America/Chicago:20241019T190000
DTEND;TZID=America/Chicago:20241019T230000
SEQUENCE:0
URL:https://missouristate.imodules.com?sid=1691&amp;gid=2&amp;pgid=3863&amp;cid=6736&amp;e
 cid=6736&amp;ciid=23742&amp;crid=0
CATEGORIES:Public,Alumni,Parents and Family,Visitors
END:VEVENT
END:VCALENDAR