BEGIN:VCALENDAR
VERSION:2.0
METHOD:PUBLISH
PRODID:-//Missouri State University/Calendar of Events//EN
CALSCALE:GREGORIAN
X-WR-TIMEZONE:America/Chicago
BEGIN:VTIMEZONE
TZID:America/Chicago
BEGIN:DAYLIGHT
TZOFFSETFROM:-0600
TZOFFSETTO:-0500
DTSTART:20070311T020000
RRULE:FREQ=YEARLY;BYMONTH=3;BYDAY=2SU
TZNAME:CDT
END:DAYLIGHT
BEGIN:STANDARD
TZOFFSETFROM:-0500
TZOFFSETTO:-0600
DTSTART:20071104T020000
RRULE:FREQ=YEARLY;BYMONTH=11;BYDAY=1SU
TZNAME:CST
END:STANDARD
END:VTIMEZONE
BEGIN:VEVENT
UID:00000000-0000-0000-0000-000000000000.234972@calendar.missouristate.edu
CREATED:20240905T214507Z
LAST-MODIFIED:20240905T214507Z
LOCATION:To Be Determined
SUMMARY:Black Alumni Network Happy Hour Series: Kansas City
DESCRIPTION:North Kansas City! Fellow Bears gather for a night of deliciou
 s appetizers and Pickleball.&lt;/p&gt;
X-ALT-DESC;FMTTYPE=text/html:&lt;html&gt;&lt;head&gt;&lt;title&gt;&lt;/title&gt;&lt;/head&gt;&lt;body&gt;North
  Kansas City! Fellow Bears gather for a night of delicious appetizers and
  Pickleball.&amp;lt\;/p&amp;gt\;&lt;/body&gt;&lt;/html&gt;
DTSTART;TZID=America/Chicago:20241002T170000
DTEND;TZID=America/Chicago:20241002T190000
SEQUENCE:0
URL:https://missouristate.imodules.com?sid=1691&amp;gid=2&amp;pgid=3911&amp;cid=6800&amp;e
 cid=6800&amp;ciid=23759&amp;crid=0
CATEGORIES:Public,Alumni,Parents and Family,Visitors
END:VEVENT
END:VCALENDAR