BEGIN:VCALENDAR
VERSION:2.0
METHOD:PUBLISH
PRODID:-//Missouri State University/Calendar of Events//EN
CALSCALE:GREGORIAN
X-WR-TIMEZONE:America/Chicago
BEGIN:VTIMEZONE
TZID:America/Chicago
BEGIN:DAYLIGHT
TZOFFSETFROM:-0600
TZOFFSETTO:-0500
DTSTART:20070311T020000
RRULE:FREQ=YEARLY;BYMONTH=3;BYDAY=2SU
TZNAME:CDT
END:DAYLIGHT
BEGIN:STANDARD
TZOFFSETFROM:-0500
TZOFFSETTO:-0600
DTSTART:20071104T020000
RRULE:FREQ=YEARLY;BYMONTH=11;BYDAY=1SU
TZNAME:CST
END:STANDARD
END:VTIMEZONE
BEGIN:VEVENT
UID:00000000-0000-0000-0000-000000000000.234974@calendar.missouristate.edu
CREATED:20240909T184510Z
LAST-MODIFIED:20240909T184510Z
LOCATION:To Be Determined
SUMMARY:Hospitality Leadership Student Showcase
DESCRIPTION:Get ready for a unique and unforgettable\nexperience meticulou
 sly planned and executed by our talented Hospitality\nLeadership students
 . Embark on a cultural journey as each course takes\nyou through the flav
 ors and trends of different decades\, offering a\none-of-a-kind food and 
 beverage experience.
X-ALT-DESC;FMTTYPE=text/html:&lt;html&gt;&lt;head&gt;&lt;title&gt;&lt;/title&gt;&lt;/head&gt;&lt;body&gt;&lt;p&gt;Ge
 t ready for a unique and unforgettable\nexperience meticulously planned a
 nd executed by our talented Hospitality\nLeadership students. Embark on a
  cultural journey as each course takes\nyou through the flavors and trend
 s of different decades\, offering a\none-of-a-kind food and beverage expe
 rience.\n&lt;/p&gt;&lt;/body&gt;&lt;/html&gt;
DTSTART;TZID=America/Chicago:20241116T180000
DTEND;TZID=America/Chicago:20241116T210000
SEQUENCE:0
URL:https://missouristate.imodules.com?sid=1691&amp;gid=2&amp;pgid=3902&amp;cid=6788&amp;e
 cid=6788&amp;ciid=23775&amp;crid=0
CATEGORIES:Public,Alumni,Parents and Family,Visitors
END:VEVENT
END:VCALENDAR