BEGIN:VCALENDAR
VERSION:2.0
METHOD:PUBLISH
PRODID:-//Missouri State University/Calendar of Events//EN
CALSCALE:GREGORIAN
X-WR-TIMEZONE:America/Chicago
BEGIN:VTIMEZONE
TZID:America/Chicago
BEGIN:DAYLIGHT
TZOFFSETFROM:-0600
TZOFFSETTO:-0500
DTSTART:20070311T020000
RRULE:FREQ=YEARLY;BYMONTH=3;BYDAY=2SU
TZNAME:CDT
END:DAYLIGHT
BEGIN:STANDARD
TZOFFSETFROM:-0500
TZOFFSETTO:-0600
DTSTART:20071104T020000
RRULE:FREQ=YEARLY;BYMONTH=11;BYDAY=1SU
TZNAME:CST
END:STANDARD
END:VTIMEZONE
BEGIN:VEVENT
UID:dd5a24a3-7935-48b5-a44b-7e94bf3e70e0.154990@calendar.missouristate.edu
CREATED:20150902T214701Z
LAST-MODIFIED:20150902T214701Z
LOCATION:Entire Campus
SUMMARY:Extra Given Day* (No Classes/Offices Open)
DESCRIPTION:These extra given days are granted at the discretion of the Pr
 esident of the University.
X-ALT-DESC;FMTTYPE=text/html:&lt;html&gt;&lt;head&gt;&lt;title&gt;&lt;/title&gt;&lt;/head&gt;&lt;body&gt;&lt;p&gt;Th
 ese extra given days are granted at the discretion of the President of th
 e University.&lt;/p&gt;&lt;/body&gt;&lt;/html&gt;
DTSTART;VALUE=DATE:20161123
DTEND;VALUE=DATE:20161124
SEQUENCE:0
URL:https://calendar.missouristate.edu/viewevent.aspx?eventid=87660&amp;occurr
 enceid=154990
CATEGORIES:Public,Current Students,Faculty,Staff,Visitors
END:VEVENT
BEGIN:VEVENT
UID:dd5a24a3-7935-48b5-a44b-7e94bf3e70e0_8868@calendar.missouristate.edu
CREATED:20150902T214701Z
LAST-MODIFIED:20150902T214701Z
LOCATION:
SUMMARY:Extra Given Day* (No Classes/Offices Open)
DESCRIPTION:These extra given days are granted at the discretion of the Pr
 esident of the University.
X-ALT-DESC;FMTTYPE=text/html:&lt;html&gt;&lt;head&gt;&lt;title&gt;&lt;/title&gt;&lt;/head&gt;&lt;body&gt;&lt;p&gt;Th
 ese extra given days are granted at the discretion of the President of th
 e University.&lt;/p&gt;&lt;/body&gt;&lt;/html&gt;
DTSTART;VALUE=DATE:20231120
DTEND;VALUE=DATE:20231121
RRULE:FREQ=DAILY;UNTIL=20231122
SEQUENCE:0
URL:https://calendar.missouristate.edu/viewevent.aspx?eventid=87660
CATEGORIES:Public,Current Students,Faculty,Staff,Visitors
END:VEVENT
END:VCALENDAR